BEGIN:VCALENDAR
VERSION:2.0
PRODID:-//wp-events-plugin.com//7.2.3.1//EN
BEGIN:VEVENT
UID:1@bocasbestbody.com
DTSTART;TZID=America/New_York:20230121T170000
DTEND;TZID=America/New_York:20230121T170000
DTSTAMP:20221101T203224Z
URL:https://bocasbestbody.com/event/bocas-best-body/
SUMMARY:Boca's Best Body - Male Division
DESCRIPTION:
LOCATION:Mizner Park Cultural Center\, 201 W Plaza Real\, Boca Raton\, FL\,
  33432\, United States
X-APPLE-STRUCTURED-LOCATION;VALUE=URI;X-ADDRESS=201 W Plaza Real\, Boca Rat
 on\, FL\, 33432\, United States;X-APPLE-RADIUS=100;X-TITLE=Mizner Park Cul
 tural Center:geo:0,0
END:VEVENT
BEGIN:VEVENT
UID:2@bocasbestbody.com
DTSTART;TZID=America/New_York:20230121T170000
DTEND;TZID=America/New_York:20230121T170000
DTSTAMP:20221101T203404Z
URL:https://bocasbestbody.com/event/bocas-best-body-female-division/
SUMMARY:Boca's Best Body - Female Division
DESCRIPTION:
LOCATION:Mizner Park Cultural Center\, 201 W Plaza Real\, Boca Raton\, FL\,
  33432\, United States
X-APPLE-STRUCTURED-LOCATION;VALUE=URI;X-ADDRESS=201 W Plaza Real\, Boca Rat
 on\, FL\, 33432\, United States;X-APPLE-RADIUS=100;X-TITLE=Mizner Park Cul
 tural Center:geo:0,0
END:VEVENT
BEGIN:VTIMEZONE
TZID:America/New_York
X-LIC-LOCATION:America/New_York
BEGIN:STANDARD
DTSTART:20221106T010000
TZOFFSETFROM:-0400
TZOFFSETTO:-0500
TZNAME:EST
END:STANDARD
END:VTIMEZONE
END:VCALENDAR